BEGIN:VCALENDAR
VERSION:2.0
PRODID:-//Gracedale - ECPv6.15.17.1//NONSGML v1.0//EN
CALSCALE:GREGORIAN
METHOD:PUBLISH
X-ORIGINAL-URL:https://gracedale.org
X-WR-CALDESC:Events for Gracedale
REFRESH-INTERVAL;VALUE=DURATION:PT1H
X-Robots-Tag:noindex
X-PUBLISHED-TTL:PT1H
BEGIN:VTIMEZONE
TZID:UTC
BEGIN:STANDARD
TZOFFSETFROM:+0000
TZOFFSETTO:+0000
TZNAME:UTC
DTSTART:20240101T000000
END:STANDARD
END:VTIMEZONE
BEGIN:VEVENT
DTSTART;TZID=UTC:20250313T100000
DTEND;TZID=UTC:20250313T110000
DTSTAMP:20260422T140552
CREATED:20250221T210126Z
LAST-MODIFIED:20250221T210126Z
UID:8512-1741860000-1741863600@gracedale.org
SUMMARY:Bible Adventure
DESCRIPTION:
URL:https://gracedale.org/event/bible-adventure-29/
LOCATION:Chapel
END:VEVENT
BEGIN:VEVENT
DTSTART;TZID=UTC:20250313T140000
DTEND;TZID=UTC:20250313T150000
DTSTAMP:20260422T140552
CREATED:20250221T210157Z
LAST-MODIFIED:20250224T220715Z
UID:8514-1741874400-1741878000@gracedale.org
SUMMARY:Monthly Birthday Party
DESCRIPTION:
URL:https://gracedale.org/event/monthly-birthday-party-3/
LOCATION:Chapel
CATEGORIES:Special Event
ATTACH;FMTTYPE=image/jpeg:https://gracedale.org/wp-content/uploads/2023/11/birthday-party.jpg
END:VEVENT
BEGIN:VEVENT
DTSTART;TZID=UTC:20250313T190000
DTEND;TZID=UTC:20250313T200000
DTSTAMP:20260422T140552
CREATED:20250221T210240Z
LAST-MODIFIED:20250221T210240Z
UID:8516-1741892400-1741896000@gracedale.org
SUMMARY:55 and Under Club
DESCRIPTION:
URL:https://gracedale.org/event/55-and-under-club-13/
LOCATION:Chapel
END:VEVENT
BEGIN:VEVENT
DTSTART;TZID=UTC:20250313T190000
DTEND;TZID=UTC:20250313T200000
DTSTAMP:20260422T140552
CREATED:20250221T210330Z
LAST-MODIFIED:20250221T210330Z
UID:8518-1741892400-1741896000@gracedale.org
SUMMARY:Spanish Speakers Club
DESCRIPTION:
URL:https://gracedale.org/event/spanish-speakers-club-2/
LOCATION:Chapel
END:VEVENT
END:VCALENDAR