BEGIN:VCALENDAR
VERSION:2.0
PRODID:-//Gracedale - ECPv6.15.17.1//NONSGML v1.0//EN
CALSCALE:GREGORIAN
METHOD:PUBLISH
X-WR-CALNAME:Gracedale
X-ORIGINAL-URL:https://gracedale.org
X-WR-CALDESC:Events for Gracedale
REFRESH-INTERVAL;VALUE=DURATION:PT1H
X-Robots-Tag:noindex
X-PUBLISHED-TTL:PT1H
BEGIN:VTIMEZONE
TZID:UTC
BEGIN:STANDARD
TZOFFSETFROM:+0000
TZOFFSETTO:+0000
TZNAME:UTC
DTSTART:20230101T000000
END:STANDARD
END:VTIMEZONE
BEGIN:VEVENT
DTSTART;TZID=UTC:20250503T140000
DTEND;TZID=UTC:20250503T150000
DTSTAMP:20260421T174934
CREATED:20250428T185939Z
LAST-MODIFIED:20250501T182743Z
UID:9089-1746280800-1746284400@gracedale.org
SUMMARY:Kentucky Derby Watch Party
DESCRIPTION:
URL:https://gracedale.org/event/kentucky-derby-watch-party/
LOCATION:Chapel
CATEGORIES:Event
ATTACH;FMTTYPE=image/jpeg:https://gracedale.org/wp-content/uploads/2024/04/derby.jpg
END:VEVENT
BEGIN:VEVENT
DTSTART;TZID=UTC:20250501T140000
DTEND;TZID=UTC:20250501T150000
DTSTAMP:20260421T174934
CREATED:20250428T185652Z
LAST-MODIFIED:20250501T182640Z
UID:9077-1746108000-1746111600@gracedale.org
SUMMARY:Concert with Sheila Milz
DESCRIPTION:
URL:https://gracedale.org/event/concert-with-sheila-milz/
LOCATION:Chapel
CATEGORIES:Event
ATTACH;FMTTYPE=image/jpeg:https://gracedale.org/wp-content/uploads/2023/12/concert.jpg
END:VEVENT
BEGIN:VEVENT
DTSTART;TZID=UTC:20241207T100000
DTEND;TZID=UTC:20241207T110000
DTSTAMP:20260421T174934
CREATED:20241122T202926Z
LAST-MODIFIED:20241206T022806Z
UID:7569-1733565600-1733569200@gracedale.org
SUMMARY:Snowman Bowling
DESCRIPTION:
URL:https://gracedale.org/event/snowman-bowling-2/
LOCATION:Chapel
CATEGORIES:Event
ATTACH;FMTTYPE=image/jpeg:https://gracedale.org/wp-content/uploads/2024/01/snowman-bowling.jpg
END:VEVENT
END:VCALENDAR