BEGIN:VCALENDAR
VERSION:2.0
PRODID:-//Gracedale - ECPv6.15.17.1//NONSGML v1.0//EN
CALSCALE:GREGORIAN
METHOD:PUBLISH
X-WR-CALNAME:Gracedale
X-ORIGINAL-URL:https://gracedale.org
X-WR-CALDESC:Events for Gracedale
REFRESH-INTERVAL;VALUE=DURATION:PT1H
X-Robots-Tag:noindex
X-PUBLISHED-TTL:PT1H
BEGIN:VTIMEZONE
TZID:America/New_York
BEGIN:DAYLIGHT
TZOFFSETFROM:-0500
TZOFFSETTO:-0400
TZNAME:EDT
DTSTART:20250309T070000
END:DAYLIGHT
BEGIN:STANDARD
TZOFFSETFROM:-0400
TZOFFSETTO:-0500
TZNAME:EST
DTSTART:20251102T060000
END:STANDARD
BEGIN:DAYLIGHT
TZOFFSETFROM:-0500
TZOFFSETTO:-0400
TZNAME:EDT
DTSTART:20260308T070000
END:DAYLIGHT
BEGIN:STANDARD
TZOFFSETFROM:-0400
TZOFFSETTO:-0500
TZNAME:EST
DTSTART:20261101T060000
END:STANDARD
BEGIN:DAYLIGHT
TZOFFSETFROM:-0500
TZOFFSETTO:-0400
TZNAME:EDT
DTSTART:20270314T070000
END:DAYLIGHT
BEGIN:STANDARD
TZOFFSETFROM:-0400
TZOFFSETTO:-0500
TZNAME:EST
DTSTART:20271107T060000
END:STANDARD
END:VTIMEZONE
BEGIN:VEVENT
DTSTART;TZID=America/New_York:20260503T140000
DTEND;TZID=America/New_York:20260503T150000
DTSTAMP:20260421T130019
CREATED:20260415T180046Z
LAST-MODIFIED:20260415T180046Z
UID:11436-1777816800-1777820400@gracedale.org
SUMMARY:Dog Visits With David
DESCRIPTION:
URL:https://gracedale.org/event/dog-visits-with-david/
LOCATION:Chapel
END:VEVENT
BEGIN:VEVENT
DTSTART;TZID=America/New_York:20260504T100000
DTEND;TZID=America/New_York:20260504T110000
DTSTAMP:20260421T130019
CREATED:20260415T180156Z
LAST-MODIFIED:20260415T180156Z
UID:11437-1777888800-1777892400@gracedale.org
SUMMARY:Star Wars Craft
DESCRIPTION:
URL:https://gracedale.org/event/star-wars-craft/
LOCATION:Chapel
END:VEVENT
BEGIN:VEVENT
DTSTART;TZID=America/New_York:20260504T140000
DTEND;TZID=America/New_York:20260504T150000
DTSTAMP:20260421T130019
CREATED:20260415T180246Z
LAST-MODIFIED:20260415T180246Z
UID:11438-1777903200-1777906800@gracedale.org
SUMMARY:Concert with Glenn Miller
DESCRIPTION:
URL:https://gracedale.org/event/concert-with-glenn-miller-3/
LOCATION:Chapel
END:VEVENT
BEGIN:VEVENT
DTSTART;TZID=America/New_York:20260505T100000
DTEND;TZID=America/New_York:20260505T110000
DTSTAMP:20260421T130019
CREATED:20260415T180612Z
LAST-MODIFIED:20260415T180612Z
UID:11439-1777975200-1777978800@gracedale.org
SUMMARY:Cinco De Mayo Craft
DESCRIPTION:
URL:https://gracedale.org/event/cinco-de-mayo-craft-2/
LOCATION:Chapel
END:VEVENT
BEGIN:VEVENT
DTSTART;TZID=America/New_York:20260505T140000
DTEND;TZID=America/New_York:20260505T150000
DTSTAMP:20260421T130019
CREATED:20260415T180747Z
LAST-MODIFIED:20260415T182206Z
UID:11440-1777989600-1777993200@gracedale.org
SUMMARY:Cinco De Mayo Party with Lorri Woodward
DESCRIPTION:
URL:https://gracedale.org/event/cinco-de-mayo-party-with-lorri-woodward/
LOCATION:Main Dining Room
END:VEVENT
BEGIN:VEVENT
DTSTART;TZID=America/New_York:20260505T140000
DTEND;TZID=America/New_York:20260505T150000
DTSTAMP:20260421T130019
CREATED:20260415T182135Z
LAST-MODIFIED:20260415T182135Z
UID:11441-1777989600-1777993200@gracedale.org
SUMMARY:Jehovah's Meeting
DESCRIPTION:
URL:https://gracedale.org/event/jehovahs-meeting-9/
LOCATION:Victorian Garden
END:VEVENT
BEGIN:VEVENT
DTSTART;TZID=America/New_York:20260505T190000
DTEND;TZID=America/New_York:20260505T200000
DTSTAMP:20260421T130019
CREATED:20260415T182314Z
LAST-MODIFIED:20260415T182314Z
UID:11442-1778007600-1778011200@gracedale.org
SUMMARY:Men's Night
DESCRIPTION:
URL:https://gracedale.org/event/mens-night-22/
LOCATION:Chapel
END:VEVENT
BEGIN:VEVENT
DTSTART;TZID=America/New_York:20260506T100000
DTEND;TZID=America/New_York:20260506T110000
DTSTAMP:20260421T130019
CREATED:20260415T182500Z
LAST-MODIFIED:20260415T182500Z
UID:11443-1778061600-1778065200@gracedale.org
SUMMARY:Yahtzee
DESCRIPTION:
URL:https://gracedale.org/event/yahtzee-24/
LOCATION:Chapel
END:VEVENT
BEGIN:VEVENT
DTSTART;TZID=America/New_York:20260506T140000
DTEND;TZID=America/New_York:20260506T150000
DTSTAMP:20260421T130019
CREATED:20260415T182555Z
LAST-MODIFIED:20260415T182555Z
UID:11444-1778076000-1778079600@gracedale.org
SUMMARY:Nurse's Day Thank You Notes
DESCRIPTION:
URL:https://gracedale.org/event/nurses-day-thank-you-notes/
LOCATION:Chapel
END:VEVENT
BEGIN:VEVENT
DTSTART;TZID=America/New_York:20260506T140000
DTEND;TZID=America/New_York:20260506T150000
DTSTAMP:20260421T130019
CREATED:20260415T182646Z
LAST-MODIFIED:20260415T182646Z
UID:11445-1778076000-1778079600@gracedale.org
SUMMARY:Independent Group
DESCRIPTION:
URL:https://gracedale.org/event/independent-group/
LOCATION:Cracker Barrel
END:VEVENT
BEGIN:VEVENT
DTSTART;TZID=America/New_York:20260507T100000
DTEND;TZID=America/New_York:20260507T110000
DTSTAMP:20260421T130019
CREATED:20260415T183119Z
LAST-MODIFIED:20260415T183119Z
UID:11447-1778148000-1778151600@gracedale.org
SUMMARY:Picture Bingo
DESCRIPTION:
URL:https://gracedale.org/event/picture-bingo-16/
LOCATION:Chapel
END:VEVENT
BEGIN:VEVENT
DTSTART;TZID=America/New_York:20260507T140000
DTEND;TZID=America/New_York:20260507T150000
DTSTAMP:20260421T130019
CREATED:20260415T183237Z
LAST-MODIFIED:20260415T183237Z
UID:11448-1778162400-1778166000@gracedale.org
SUMMARY:Prom Boutique
DESCRIPTION:
URL:https://gracedale.org/event/prom-boutique/
LOCATION:Chapel
END:VEVENT
BEGIN:VEVENT
DTSTART;TZID=America/New_York:20260507T150000
DTEND;TZID=America/New_York:20260507T153000
DTSTAMP:20260421T130019
CREATED:20260415T183348Z
LAST-MODIFIED:20260415T183348Z
UID:11449-1778166000-1778167800@gracedale.org
SUMMARY:Sing Along with Glenn
DESCRIPTION:
URL:https://gracedale.org/event/sing-along-with-glenn-2/
LOCATION:Tower 9
END:VEVENT
BEGIN:VEVENT
DTSTART;TZID=America/New_York:20260507T190000
DTEND;TZID=America/New_York:20260507T200000
DTSTAMP:20260421T130019
CREATED:20260415T183512Z
LAST-MODIFIED:20260415T183512Z
UID:11450-1778180400-1778184000@gracedale.org
SUMMARY:55 & Under Social
DESCRIPTION:
URL:https://gracedale.org/event/55-under-social-7/
LOCATION:Chapel
END:VEVENT
BEGIN:VEVENT
DTSTART;TZID=America/New_York:20260507T190000
DTEND;TZID=America/New_York:20260507T200000
DTSTAMP:20260421T130019
CREATED:20260415T183609Z
LAST-MODIFIED:20260415T183609Z
UID:11451-1778180400-1778184000@gracedale.org
SUMMARY:Spanish Speakers Social
DESCRIPTION:
URL:https://gracedale.org/event/spanish-speakers-social-52/
LOCATION:Chapel
END:VEVENT
BEGIN:VEVENT
DTSTART;TZID=America/New_York:20260507T190000
DTEND;TZID=America/New_York:20260507T200000
DTSTAMP:20260421T130019
CREATED:20260416T175103Z
LAST-MODIFIED:20260416T175103Z
UID:11493-1778180400-1778184000@gracedale.org
SUMMARY:AA Meeting
DESCRIPTION:
URL:https://gracedale.org/event/aa-meeting-8/
LOCATION:Tower 1 Conference Room
END:VEVENT
BEGIN:VEVENT
DTSTART;TZID=America/New_York:20260508T100000
DTEND;TZID=America/New_York:20260508T110000
DTSTAMP:20260421T130019
CREATED:20260415T183723Z
LAST-MODIFIED:20260415T183723Z
UID:11452-1778234400-1778238000@gracedale.org
SUMMARY:Weekly Worship
DESCRIPTION:
URL:https://gracedale.org/event/weekly-worship-72/
LOCATION:Chapel
END:VEVENT
BEGIN:VEVENT
DTSTART;TZID=America/New_York:20260508T143000
DTEND;TZID=America/New_York:20260508T150000
DTSTAMP:20260421T130019
CREATED:20260415T183809Z
LAST-MODIFIED:20260415T183809Z
UID:11453-1778250600-1778252400@gracedale.org
SUMMARY:Dan Pokras in Concert
DESCRIPTION:
URL:https://gracedale.org/event/dan-pokras-in-concert/
LOCATION:Chapel
END:VEVENT
BEGIN:VEVENT
DTSTART;TZID=America/New_York:20260509T100000
DTEND;TZID=America/New_York:20260509T110000
DTSTAMP:20260421T130019
CREATED:20260415T183906Z
LAST-MODIFIED:20260415T183906Z
UID:11454-1778320800-1778324400@gracedale.org
SUMMARY:Chair Yoga
DESCRIPTION:
URL:https://gracedale.org/event/chair-yoga-4/
LOCATION:Chapel
END:VEVENT
BEGIN:VEVENT
DTSTART;TZID=America/New_York:20260509T140000
DTEND;TZID=America/New_York:20260509T150000
DTSTAMP:20260421T130019
CREATED:20260415T184008Z
LAST-MODIFIED:20260415T184008Z
UID:11455-1778335200-1778338800@gracedale.org
SUMMARY:Putt-Putt Challenge
DESCRIPTION:
URL:https://gracedale.org/event/putt-putt-challenge-2/
LOCATION:Chapel
END:VEVENT
BEGIN:VEVENT
DTSTART;TZID=America/New_York:20260510T100000
DTEND;TZID=America/New_York:20260510T110000
DTSTAMP:20260421T130019
CREATED:20260415T184048Z
LAST-MODIFIED:20260415T184048Z
UID:11456-1778407200-1778410800@gracedale.org
SUMMARY:Sunday Service
DESCRIPTION:
URL:https://gracedale.org/event/sunday-service-56/
LOCATION:Chapel
END:VEVENT
BEGIN:VEVENT
DTSTART;TZID=America/New_York:20260510T140000
DTEND;TZID=America/New_York:20260510T150000
DTSTAMP:20260421T130019
CREATED:20260415T184129Z
LAST-MODIFIED:20260415T184129Z
UID:11457-1778421600-1778425200@gracedale.org
SUMMARY:Mother's Day Reminisce
DESCRIPTION:
URL:https://gracedale.org/event/mothers-day-reminisce-2/
LOCATION:Chapel
END:VEVENT
BEGIN:VEVENT
DTSTART;TZID=America/New_York:20260511T100000
DTEND;TZID=America/New_York:20260511T110000
DTSTAMP:20260421T130019
CREATED:20260416T170427Z
LAST-MODIFIED:20260416T170427Z
UID:11459-1778493600-1778497200@gracedale.org
SUMMARY:Sing Along with Pastor Roger
DESCRIPTION:
URL:https://gracedale.org/event/sing-along-with-pastor-roger-6/
LOCATION:Chapel
END:VEVENT
BEGIN:VEVENT
DTSTART;TZID=America/New_York:20260511T140000
DTEND;TZID=America/New_York:20260511T150000
DTSTAMP:20260421T130019
CREATED:20260416T170535Z
LAST-MODIFIED:20260416T170535Z
UID:11460-1778508000-1778511600@gracedale.org
SUMMARY:Floral Art Project
DESCRIPTION:
URL:https://gracedale.org/event/floral-art-project/
LOCATION:Chapel
END:VEVENT
BEGIN:VEVENT
DTSTART;TZID=America/New_York:20260512T100000
DTEND;TZID=America/New_York:20260512T110000
DTSTAMP:20260421T130019
CREATED:20260416T170641Z
LAST-MODIFIED:20260416T170641Z
UID:11461-1778580000-1778583600@gracedale.org
SUMMARY:Guess The Flower/Plant Trivia
DESCRIPTION:
URL:https://gracedale.org/event/guess-the-flower-plant-trivia/
LOCATION:Chapel
END:VEVENT
BEGIN:VEVENT
DTSTART;TZID=America/New_York:20260512T140000
DTEND;TZID=America/New_York:20260512T150000
DTSTAMP:20260421T130019
CREATED:20260416T170721Z
LAST-MODIFIED:20260416T170721Z
UID:11462-1778594400-1778598000@gracedale.org
SUMMARY:Resident Council
DESCRIPTION:
URL:https://gracedale.org/event/resident-council-19/
LOCATION:Chapel
END:VEVENT
BEGIN:VEVENT
DTSTART;TZID=America/New_York:20260512T140000
DTEND;TZID=America/New_York:20260512T150000
DTSTAMP:20260421T130019
CREATED:20260416T170839Z
LAST-MODIFIED:20260416T170839Z
UID:11463-1778594400-1778598000@gracedale.org
SUMMARY:Jehovah's Meeting
DESCRIPTION:
URL:https://gracedale.org/event/jehovahs-meeting-10/
LOCATION:Victorian Garden
END:VEVENT
BEGIN:VEVENT
DTSTART;TZID=America/New_York:20260512T190000
DTEND;TZID=America/New_York:20260512T200000
DTSTAMP:20260421T130019
CREATED:20260416T170929Z
LAST-MODIFIED:20260416T170929Z
UID:11464-1778612400-1778616000@gracedale.org
SUMMARY:Nazareth Community Chorus
DESCRIPTION:
URL:https://gracedale.org/event/nazareth-community-chorus/
LOCATION:Chapel
END:VEVENT
BEGIN:VEVENT
DTSTART;TZID=America/New_York:20260513T100000
DTEND;TZID=America/New_York:20260513T120000
DTSTAMP:20260421T130019
CREATED:20260416T171046Z
LAST-MODIFIED:20260416T171046Z
UID:11465-1778666400-1778673600@gracedale.org
SUMMARY:Mini Ponies
DESCRIPTION:
URL:https://gracedale.org/event/mini-ponies/
LOCATION:Under Arcade
END:VEVENT
BEGIN:VEVENT
DTSTART;TZID=America/New_York:20260513T140000
DTEND;TZID=America/New_York:20260513T150000
DTSTAMP:20260421T130019
CREATED:20260416T171150Z
LAST-MODIFIED:20260416T171150Z
UID:11466-1778680800-1778684400@gracedale.org
SUMMARY:Monthly Birthday Party
DESCRIPTION:
URL:https://gracedale.org/event/monthly-birthday-party-16/
LOCATION:Chapel
END:VEVENT
END:VCALENDAR