BEGIN:VCALENDAR
VERSION:2.0
PRODID:-//Gracedale - ECPv6.15.17.1//NONSGML v1.0//EN
CALSCALE:GREGORIAN
METHOD:PUBLISH
X-ORIGINAL-URL:https://gracedale.org
X-WR-CALDESC:Events for Gracedale
REFRESH-INTERVAL;VALUE=DURATION:PT1H
X-Robots-Tag:noindex
X-PUBLISHED-TTL:PT1H
BEGIN:VTIMEZONE
TZID:UTC
BEGIN:STANDARD
TZOFFSETFROM:+0000
TZOFFSETTO:+0000
TZNAME:UTC
DTSTART:20240101T000000
END:STANDARD
END:VTIMEZONE
BEGIN:VEVENT
DTSTART;TZID=UTC:20250612T190000
DTEND;TZID=UTC:20250612T200000
DTSTAMP:20260424T111204
CREATED:20250528T163340Z
LAST-MODIFIED:20250528T163340Z
UID:9455-1749754800-1749758400@gracedale.org
SUMMARY:55 And Under Club
DESCRIPTION:
URL:https://gracedale.org/event/55-and-under-club-23/
LOCATION:Chapel
END:VEVENT
BEGIN:VEVENT
DTSTART;TZID=UTC:20250613T100000
DTEND;TZID=UTC:20250613T110000
DTSTAMP:20260424T111204
CREATED:20250528T163427Z
LAST-MODIFIED:20250528T163427Z
UID:9457-1749808800-1749812400@gracedale.org
SUMMARY:Yogurt Bar
DESCRIPTION:
URL:https://gracedale.org/event/yogurt-bar/
LOCATION:Chapel
END:VEVENT
BEGIN:VEVENT
DTSTART;TZID=UTC:20250613T140000
DTEND;TZID=UTC:20250613T150000
DTSTAMP:20260424T111204
CREATED:20250528T163616Z
LAST-MODIFIED:20250528T163616Z
UID:9459-1749823200-1749826800@gracedale.org
SUMMARY:Weekly Worship
DESCRIPTION:
URL:https://gracedale.org/event/weekly-worship-47/
LOCATION:Chapel
END:VEVENT
BEGIN:VEVENT
DTSTART;TZID=UTC:20250614T100000
DTEND;TZID=UTC:20250614T110000
DTSTAMP:20260424T111204
CREATED:20250528T163640Z
LAST-MODIFIED:20250528T163640Z
UID:9461-1749895200-1749898800@gracedale.org
SUMMARY:Mass with Holy Family
DESCRIPTION:
URL:https://gracedale.org/event/mass-with-holy-family-3/
LOCATION:Chapel
END:VEVENT
BEGIN:VEVENT
DTSTART;TZID=UTC:20250614T140000
DTEND;TZID=UTC:20250614T150000
DTSTAMP:20260424T111204
CREATED:20250528T163712Z
LAST-MODIFIED:20250529T204634Z
UID:9463-1749909600-1749913200@gracedale.org
SUMMARY:Karaoke Oldies with Tom and June
DESCRIPTION:
URL:https://gracedale.org/event/karaoke-oldies-with-tom-and-june/
LOCATION:Chapel
CATEGORIES:Special Event
ATTACH;FMTTYPE=image/jpeg:https://gracedale.org/wp-content/uploads/2024/09/karaoke.jpg
END:VEVENT
BEGIN:VEVENT
DTSTART;TZID=UTC:20250615T100000
DTEND;TZID=UTC:20250615T110000
DTSTAMP:20260424T111204
CREATED:20250528T163759Z
LAST-MODIFIED:20250528T163759Z
UID:9465-1749981600-1749985200@gracedale.org
SUMMARY:Grace Deliverance Baptist Church
DESCRIPTION:
URL:https://gracedale.org/event/grace-deliverance-baptist-church-6/
LOCATION:Chapel
END:VEVENT
BEGIN:VEVENT
DTSTART;TZID=UTC:20250615T140000
DTEND;TZID=UTC:20250615T150000
DTSTAMP:20260424T111204
CREATED:20250528T163826Z
LAST-MODIFIED:20250529T204731Z
UID:9467-1749996000-1749999600@gracedale.org
SUMMARY:Father's Day Reminisce
DESCRIPTION:
URL:https://gracedale.org/event/fathers-day-reminisce/
LOCATION:Chapel
CATEGORIES:Special Event
ATTACH;FMTTYPE=image/jpeg:https://gracedale.org/wp-content/uploads/2024/05/fathers-day-coffee.jpg
END:VEVENT
BEGIN:VEVENT
DTSTART;TZID=UTC:20250616T100000
DTEND;TZID=UTC:20250616T110000
DTSTAMP:20260424T111204
CREATED:20250528T164956Z
LAST-MODIFIED:20250528T164956Z
UID:9469-1750068000-1750071600@gracedale.org
SUMMARY:Turtle Craft
DESCRIPTION:
URL:https://gracedale.org/event/turtle-craft/
LOCATION:Chapel
END:VEVENT
BEGIN:VEVENT
DTSTART;TZID=UTC:20250616T140000
DTEND;TZID=UTC:20250616T150000
DTSTAMP:20260424T111204
CREATED:20250528T165034Z
LAST-MODIFIED:20250529T204809Z
UID:9471-1750082400-1750086000@gracedale.org
SUMMARY:Concert with Glenn Miller
DESCRIPTION:
URL:https://gracedale.org/event/concert-with-glenn-miller/
LOCATION:Chapel
CATEGORIES:Special Event
ATTACH;FMTTYPE=image/jpeg:https://gracedale.org/wp-content/uploads/2023/11/glenn-miller.jpg
END:VEVENT
BEGIN:VEVENT
DTSTART;TZID=UTC:20250617T100000
DTEND;TZID=UTC:20250617T110000
DTSTAMP:20260424T111204
CREATED:20250602T220815Z
LAST-MODIFIED:20250602T220815Z
UID:9518-1750154400-1750158000@gracedale.org
SUMMARY:Pokeno
DESCRIPTION:
URL:https://gracedale.org/event/pokeno-10/
LOCATION:Chapel
END:VEVENT
BEGIN:VEVENT
DTSTART;TZID=UTC:20250617T140000
DTEND;TZID=UTC:20250617T150000
DTSTAMP:20260424T111204
CREATED:20250602T220934Z
LAST-MODIFIED:20250602T220934Z
UID:9520-1750168800-1750172400@gracedale.org
SUMMARY:Root Beer Floats!
DESCRIPTION:Celebrate National Root Beer Float Day! We’ll be coming around to all units with treats.
URL:https://gracedale.org/event/root-beer-floats/
LOCATION:Chapel
END:VEVENT
BEGIN:VEVENT
DTSTART;TZID=UTC:20250617T140000
DTEND;TZID=UTC:20250617T150000
DTSTAMP:20260424T111204
CREATED:20250602T223204Z
LAST-MODIFIED:20250602T223204Z
UID:9558-1750168800-1750172400@gracedale.org
SUMMARY:Jehovah's Witness Meeting
DESCRIPTION:
URL:https://gracedale.org/event/jehovahs-witness-meeting-33/
LOCATION:Victorian Garden
END:VEVENT
BEGIN:VEVENT
DTSTART;TZID=UTC:20250617T190000
DTEND;TZID=UTC:20250617T200000
DTSTAMP:20260424T111204
CREATED:20250602T221012Z
LAST-MODIFIED:20250602T221012Z
UID:9522-1750186800-1750190400@gracedale.org
SUMMARY:Musical Arts Chorus
DESCRIPTION:
URL:https://gracedale.org/event/musical-arts-chorus/
LOCATION:Chapel
END:VEVENT
BEGIN:VEVENT
DTSTART;TZID=UTC:20250618T100000
DTEND;TZID=UTC:20250618T110000
DTSTAMP:20260424T111204
CREATED:20250602T221948Z
LAST-MODIFIED:20250602T221948Z
UID:9526-1750240800-1750244400@gracedale.org
SUMMARY:Woodworking
DESCRIPTION:
URL:https://gracedale.org/event/woodworking-9/
LOCATION:Chapel
END:VEVENT
BEGIN:VEVENT
DTSTART;TZID=UTC:20250618T120000
DTEND;TZID=UTC:20250618T140000
DTSTAMP:20260424T111204
CREATED:20250602T222150Z
LAST-MODIFIED:20250618T002925Z
UID:9528-1750248000-1750255200@gracedale.org
SUMMARY:Sweet Scoops Ice Cream Truck
DESCRIPTION:In the month of June\, residents can choose one scoop of any flavor ice cream\, plus one topping\, for FREE!  All other items will be at listed cost.  Staff and visitors pay regular price.
URL:https://gracedale.org/event/sweet-scoops-ice-cream-truck-2/
LOCATION:Front of Tower Building
CATEGORIES:Special Event
ATTACH;FMTTYPE=image/jpeg:https://gracedale.org/wp-content/uploads/2024/04/ice-cream-truck.jpg
END:VEVENT
BEGIN:VEVENT
DTSTART;TZID=UTC:20250618T150000
DTEND;TZID=UTC:20250618T160000
DTSTAMP:20260424T111204
CREATED:20250602T221205Z
LAST-MODIFIED:20250618T003047Z
UID:9524-1750258800-1750262400@gracedale.org
SUMMARY:Happy Hands Sing Along with Elaine (T3 and T9)
DESCRIPTION:
URL:https://gracedale.org/event/happy-hands-sing-along-with-elaine-t3-and-t9/
LOCATION:Chapel
CATEGORIES:Special Event
ATTACH;FMTTYPE=image/jpeg:https://gracedale.org/wp-content/uploads/2024/09/karaoke.jpg
END:VEVENT
BEGIN:VEVENT
DTSTART;TZID=UTC:20250618T183000
DTEND;TZID=UTC:20250618T200000
DTSTAMP:20260424T111204
CREATED:20250602T222228Z
LAST-MODIFIED:20250602T222228Z
UID:9530-1750271400-1750276800@gracedale.org
SUMMARY:Veteran's Bingo
DESCRIPTION:
URL:https://gracedale.org/event/veterans-bingo-4/
LOCATION:Chapel
END:VEVENT
BEGIN:VEVENT
DTSTART;TZID=UTC:20250619T100000
DTEND;TZID=UTC:20250619T110000
DTSTAMP:20260424T111204
CREATED:20250602T222304Z
LAST-MODIFIED:20250602T222304Z
UID:9532-1750327200-1750330800@gracedale.org
SUMMARY:Bible Adventure
DESCRIPTION:
URL:https://gracedale.org/event/bible-adventure-49/
LOCATION:Chapel
END:VEVENT
BEGIN:VEVENT
DTSTART;TZID=UTC:20250619T140000
DTEND;TZID=UTC:20250619T150000
DTSTAMP:20260424T111204
CREATED:20250602T222509Z
LAST-MODIFIED:20250618T005020Z
UID:9534-1750341600-1750345200@gracedale.org
SUMMARY:Juneteenth Celebration
DESCRIPTION:
URL:https://gracedale.org/event/juneteenth-celebration/
LOCATION:Chapel
CATEGORIES:Special Event
ATTACH;FMTTYPE=image/jpeg:https://gracedale.org/wp-content/uploads/2025/06/juneteenth.jpg
END:VEVENT
BEGIN:VEVENT
DTSTART;TZID=UTC:20250619T160000
DTEND;TZID=UTC:20250619T170000
DTSTAMP:20260424T111204
CREATED:20250602T222613Z
LAST-MODIFIED:20250602T222613Z
UID:9536-1750348800-1750352400@gracedale.org
SUMMARY:Spanish Speakers Social
DESCRIPTION:
URL:https://gracedale.org/event/spanish-speakers-social-21/
LOCATION:Chapel
END:VEVENT
BEGIN:VEVENT
DTSTART;TZID=UTC:20250619T190000
DTEND;TZID=UTC:20250619T200000
DTSTAMP:20260424T111204
CREATED:20250602T222644Z
LAST-MODIFIED:20250602T222644Z
UID:9538-1750359600-1750363200@gracedale.org
SUMMARY:55 and Under Club
DESCRIPTION:
URL:https://gracedale.org/event/55-and-under-club-24/
LOCATION:Chapel
END:VEVENT
BEGIN:VEVENT
DTSTART;TZID=UTC:20250620T100000
DTEND;TZID=UTC:20250620T110000
DTSTAMP:20260424T111204
CREATED:20250602T222720Z
LAST-MODIFIED:20250602T222720Z
UID:9540-1750413600-1750417200@gracedale.org
SUMMARY:Scott's Popsicle Craft
DESCRIPTION:
URL:https://gracedale.org/event/scotts-popsicle-craft/
LOCATION:Chapel
END:VEVENT
BEGIN:VEVENT
DTSTART;TZID=UTC:20250620T140000
DTEND;TZID=UTC:20250620T150000
DTSTAMP:20260424T111204
CREATED:20250602T222755Z
LAST-MODIFIED:20250602T222755Z
UID:9542-1750428000-1750431600@gracedale.org
SUMMARY:Weekly Worship
DESCRIPTION:
URL:https://gracedale.org/event/weekly-worship-48/
LOCATION:Chapel
END:VEVENT
BEGIN:VEVENT
DTSTART;TZID=UTC:20250621T100000
DTEND;TZID=UTC:20250621T110000
DTSTAMP:20260424T111204
CREATED:20250602T222831Z
LAST-MODIFIED:20250602T222831Z
UID:9544-1750500000-1750503600@gracedale.org
SUMMARY:Chair Yoga Video
DESCRIPTION:
URL:https://gracedale.org/event/chair-yoga-video-2/
LOCATION:Chapel
END:VEVENT
BEGIN:VEVENT
DTSTART;TZID=UTC:20250621T140000
DTEND;TZID=UTC:20250621T150000
DTSTAMP:20260424T111204
CREATED:20250602T222859Z
LAST-MODIFIED:20250602T222859Z
UID:9546-1750514400-1750518000@gracedale.org
SUMMARY:Yard Games
DESCRIPTION:
URL:https://gracedale.org/event/yard-games-4/
LOCATION:Chapel
END:VEVENT
BEGIN:VEVENT
DTSTART;TZID=UTC:20250622T100000
DTEND;TZID=UTC:20250622T110000
DTSTAMP:20260424T111204
CREATED:20250602T222929Z
LAST-MODIFIED:20250602T222929Z
UID:9548-1750586400-1750590000@gracedale.org
SUMMARY:Sunday Service
DESCRIPTION:
URL:https://gracedale.org/event/sunday-service-30/
LOCATION:Chapel
END:VEVENT
BEGIN:VEVENT
DTSTART;TZID=UTC:20250622T140000
DTEND;TZID=UTC:20250622T150000
DTSTAMP:20260424T111204
CREATED:20250602T223007Z
LAST-MODIFIED:20250618T003220Z
UID:9550-1750600800-1750604400@gracedale.org
SUMMARY:Karaoke
DESCRIPTION:
URL:https://gracedale.org/event/karaoke-14/
LOCATION:Chapel
CATEGORIES:Special Event
ATTACH;FMTTYPE=image/jpeg:https://gracedale.org/wp-content/uploads/2024/09/karaoke.jpg
END:VEVENT
BEGIN:VEVENT
DTSTART;TZID=UTC:20250623T100000
DTEND;TZID=UTC:20250623T110000
DTSTAMP:20260424T111204
CREATED:20250602T223043Z
LAST-MODIFIED:20250602T223043Z
UID:9552-1750672800-1750676400@gracedale.org
SUMMARY:Edible Arts
DESCRIPTION:
URL:https://gracedale.org/event/edible-arts-8/
LOCATION:Chapel
END:VEVENT
BEGIN:VEVENT
DTSTART;TZID=UTC:20250623T140000
DTEND;TZID=UTC:20250623T150000
DTSTAMP:20260424T111204
CREATED:20250602T223112Z
LAST-MODIFIED:20250602T223112Z
UID:9554-1750687200-1750690800@gracedale.org
SUMMARY:Trivia
DESCRIPTION:
URL:https://gracedale.org/event/trivia-7/
LOCATION:Chapel
END:VEVENT
BEGIN:VEVENT
DTSTART;TZID=UTC:20250624T100000
DTEND;TZID=UTC:20250624T110000
DTSTAMP:20260424T111204
CREATED:20250602T223137Z
LAST-MODIFIED:20250602T223137Z
UID:9556-1750759200-1750762800@gracedale.org
SUMMARY:Word Games
DESCRIPTION:
URL:https://gracedale.org/event/word-games-7/
LOCATION:Chapel
END:VEVENT
END:VCALENDAR